BEGIN:VCALENDAR
VERSION:2.0
PRODID:Events Booking
BEGIN:VEVENT
UID:69e5e2cea3839
SUMMARY:INSURE OUR SURVIVAL LONDON
DESCRIPTION:No insurance = no drilling and digging for oil\, gas and coal.
 
 Book a day off work for 28 October: this campaign calls on all insurers 
 to stop insuring new fossil fuel projects. It has had recent success: Zuri
 ch and Probitas have ruled out insuring new oil and gas projects.
 There 
 is a week of UK wide action staring on Monday 28 October.&nbsp\; Warwick D
 istrict rebels will be catching a train from Warwick/Leamington to London 
 on the Monday. Please let us know via xrwarwickdistrict@protonmail.com to 
 tell us you will be coming. Further details to be confirmed.
LOCATION:London
DTSTART:20241028T090000Z
DTSTAMP:20240926T151159Z
ORGANIZER;CN=XRWD:MAILTO:xrwarwickdistrict@protonmail.com
GEO:51.497678;-0.135728
X-APPLE-STRUCTURED-LOCATION;VALUE=URI;X-ADDRESS=London;X-APPLE-RADIUS=72;X-
 TITLE=London:51.497678;-0.135728
END:VEVENT
END:VCALENDAR