BEGIN:VCALENDAR
VERSION:2.0
PRODID:Events Booking
BEGIN:VEVENT
UID:69e8843868aa5
SUMMARY:Climate Justice Mass Mobilisation
DESCRIPTION:Join Warwickshire Climate Alliance to demand action on the clim
 ate crisis.
 Global temperatures\, rising. Energy bills\, rising. Billion
 aire profits\, rising.While people are being forced to choose between heat
 ing and eating\, energy companies are making record-breaking profits.
LOCATION:The Parade\, Royal Leamington Spa\, Warwickshire\, CV32 4AA
DTSTART:20221112T120000Z
DTEND:20221112T140000Z
DTSTAMP:20221105T164741Z
ORGANIZER;CN=XRWD:MAILTO:xrwarwickdistrict@protonmail.com
GEO:52.28751;-1.53417
X-APPLE-STRUCTURED-LOCATION;VALUE=URI;X-ADDRESS=The Parade\, Royal Leamingt
 on Spa\, Warwickshire\, CV32 4AA;X-APPLE-RADIUS=72;X-TITLE=Royal Pump Room
 s:52.28751;-1.53417
END:VEVENT
END:VCALENDAR