BEGIN:VCALENDAR
VERSION:2.0
PRODID:Events Booking
BEGIN:VEVENT
UID:69e5e386dc6db
SUMMARY:Barclays Action
DESCRIPTION:On the 15th January 11AM we will be protesting at Barclays Bank
  Leamington\, at their greenwashing.&nbsp\;&nbsp\;Barclays has invested $1
 45 billion dollars in fossil fuels since the Paris agreement of 2015\, yet
  claims&nbsp\;“It’s our ambition to be a net zero bank by 2050. We’r
 e already net zero emissions from our own operations...\" blah blah blah.&
 nbsp\; Join us in demanding action.&nbsp\; Bring mops and cleaning gear to
  symbolise the greenwash\, or business attire.
LOCATION:48/50 The Parade\, Leamington Spa CV32 4DD
DTSTART:20220115T110000Z
DTSTAMP:20220109T214938Z
ORGANIZER;CN=XRWD:MAILTO:xrwarwickdistrict@protonmail.com
GEO:52.291872;-1.535684
X-APPLE-STRUCTURED-LOCATION;VALUE=URI;X-ADDRESS=48/50 The Parade\, Leamingt
 on Spa CV32 4DD;X-APPLE-RADIUS=72;X-TITLE=Barclays Leamington:52.291872;-1
 .535684
END:VEVENT
END:VCALENDAR